BEGIN:VCALENDAR
VERSION:2.0
PRODID:-//wp-events-plugin.com//7.2.3.1//EN
TZID:America/Chicago
X-WR-TIMEZONE:America/Chicago
BEGIN:VEVENT
UID:1373@bnaijehudah.org
DTSTART;TZID=America/Chicago:20240501T190000
DTEND;TZID=America/Chicago:20240501T201500
DTSTAMP:20240228T135552Z
URL:https://bnaijehudah.org/events/2nd-semester-kesher-on-the-go-2024-05-0
 1/
SUMMARY:2nd Semester Kesher on the Go
DESCRIPTION:Click Here for the Excursions Permissions and Transportation Fo
 rm
ATTACH;FMTTYPE=image/jpeg:https://bnaijehudah.org/wp-content/uploads/2024/
 01/kesher-on-the-go-spring-2024.png
CATEGORIES:Kesher
END:VEVENT
BEGIN:VTIMEZONE
TZID:America/Chicago
X-LIC-LOCATION:America/Chicago
BEGIN:DAYLIGHT
DTSTART:20240310T030000
TZOFFSETFROM:-0600
TZOFFSETTO:-0500
TZNAME:CDT
END:DAYLIGHT
END:VTIMEZONE
END:VCALENDAR