BEGIN:VCALENDAR
VERSION:2.0
PRODID:-//wp-events-plugin.com//7.2.3.1//EN
TZID:America/Chicago
X-WR-TIMEZONE:America/Chicago
BEGIN:VEVENT
UID:1909@bnaijehudah.org
DTSTART;TZID=America/Chicago:20241117T120000
DTEND;TZID=America/Chicago:20241117T143000
DTSTAMP:20240908T032704Z
URL:https://bnaijehudah.org/events/4th-5th-grade-youth-group-2/
SUMMARY:4th-5th Grade Youth Group: Ronald McDonald House Charities
DESCRIPTION:4 and 5th graders\, come for an afternoon of service projects a
 nd fun as we give back to the Kansas City community. More details to come 
 - stay tuned for this meaningful and fun mitzvah opportunity!\n\n$20 per p
 erson. Register here.
ATTACH;FMTTYPE=image/jpeg:https://bnaijehudah.org/wp-content/uploads/2024/
 07/ronald-mcdonald.png
CATEGORIES:Yalla! and Youth
END:VEVENT
BEGIN:VTIMEZONE
TZID:America/Chicago
X-LIC-LOCATION:America/Chicago
BEGIN:STANDARD
DTSTART:20241103T010000
TZOFFSETFROM:-0500
TZOFFSETTO:-0600
TZNAME:CST
END:STANDARD
END:VTIMEZONE
END:VCALENDAR