BEGIN:VCALENDAR
VERSION:2.0
PRODID:-//wp-events-plugin.com//7.2.3.1//EN
TZID:America/Chicago
X-WR-TIMEZONE:America/Chicago
BEGIN:VEVENT
UID:1763@bnaijehudah.org
DTSTART;TZID=America/Chicago:20240816T170000
DTEND;TZID=America/Chicago:20240816T180000
DTSTAMP:20240527T012319Z
URL:https://bnaijehudah.org/events/65-and-thriving-happy-hour/
SUMMARY:65+ and Thriving Happy Hour
DESCRIPTION:Shmooze with others 65 and older for pre-Shabbat nosh before he
 ading into the Chapel for Friday night services.\n\nRegister here.
ATTACH;FMTTYPE=image/jpeg:https://bnaijehudah.org/wp-content/uploads/2024/
 05/happy-hours-65.png
CATEGORIES:65+ Thriving
END:VEVENT
BEGIN:VTIMEZONE
TZID:America/Chicago
X-LIC-LOCATION:America/Chicago
BEGIN:DAYLIGHT
DTSTART:20240310T030000
TZOFFSETFROM:-0600
TZOFFSETTO:-0500
TZNAME:CDT
END:DAYLIGHT
END:VTIMEZONE
END:VCALENDAR