BEGIN:VCALENDAR
VERSION:2.0
PRODID:-//wp-events-plugin.com//7.2.3.1//EN
TZID:America/Chicago
X-WR-TIMEZONE:America/Chicago
BEGIN:VEVENT
UID:2973@bnaijehudah.org
DTSTART;TZID=America/Chicago:20260206T170000
DTEND;TZID=America/Chicago:20260206T170000
DTSTAMP:20251125T183924Z
URL:https://bnaijehudah.org/events/65-and-thriving-pre-oneg-happy-hour/
SUMMARY:65+ and Thriving Pre-Oneg Happy Hour
DESCRIPTION:Schmooze with others 65 and older for a pre-Shabbat nosh before
  heading into the Chapel for Friday night services.\n\nRegister here.
ATTACH;FMTTYPE=image/jpeg:https://bnaijehudah.org/wp-content/uploads/2025/
 06/happy-hour.png
CATEGORIES:65+ Thriving,Community Connections
END:VEVENT
BEGIN:VTIMEZONE
TZID:America/Chicago
X-LIC-LOCATION:America/Chicago
BEGIN:STANDARD
DTSTART:20251102T010000
TZOFFSETFROM:-0500
TZOFFSETTO:-0600
TZNAME:CST
END:STANDARD
END:VTIMEZONE
END:VCALENDAR