BEGIN:VCALENDAR
VERSION:2.0
PRODID:-//wp-events-plugin.com//7.2.3.1//EN
TZID:America/Chicago
X-WR-TIMEZONE:America/Chicago
BEGIN:VEVENT
UID:1728@bnaijehudah.org
DTSTART;TZID=America/Chicago:20241214T170000
DTEND;TZID=America/Chicago:20241214T210000
DTSTAMP:20241213T190326Z
URL:https://bnaijehudah.org/events/6th-7th-and-8th-grade-shul-in/
SUMMARY:6th\, 7th and 8th Grade Shul-In
DESCRIPTION:Enjoy a night to remember at the Shul-In! This fun-filled overn
 ight includes dinner\, sweet treats\, lots of games\, Gaga\, a movie on ou
 r big screen and all the fun they can handle! $25 covers programming\, din
 ner\, snacks\, breakfast...and more snacks!\n\n$25 per person. Register he
 re.
ATTACH;FMTTYPE=image/jpeg:https://bnaijehudah.org/wp-content/uploads/2024/
 05/shul-in-December-2024.png
CATEGORIES:Yalla! and Youth,Youth Group
END:VEVENT
BEGIN:VTIMEZONE
TZID:America/Chicago
X-LIC-LOCATION:America/Chicago
BEGIN:STANDARD
DTSTART:20241103T010000
TZOFFSETFROM:-0500
TZOFFSETTO:-0600
TZNAME:CST
END:STANDARD
END:VTIMEZONE
END:VCALENDAR