BEGIN:VCALENDAR
VERSION:2.0
PRODID:-//wp-events-plugin.com//7.2.3.1//EN
TZID:America/Chicago
X-WR-TIMEZONE:America/Chicago
BEGIN:VEVENT
UID:1915@bnaijehudah.org
DTSTART;TZID=America/Chicago:20250126T123000
DTEND;TZID=America/Chicago:20250126T150000
DTSTAMP:20250121T200726Z
URL:https://bnaijehudah.org/events/6th-8th-grade-youth-group-3/
SUMMARY:CANCELED: 6th-8th Grade Youth Group
DESCRIPTION:Calling all 6th-8th graders! Grab a swimsuit and join us for an
  afternoon of fun at the pool! There are water slides\, a lazy river\, and
  a 20-foot climbing wall over the deep water well! Come for this bit of su
 mmertime fun in the middle of winter! Registration is limited\, so be sure
  to secure a spot and get registered today.\n\n$20 per person.
ATTACH;FMTTYPE=image/jpeg:https://bnaijehudah.org/wp-content/uploads/2024/
 09/pool-party.png
CATEGORIES:Yalla! and Youth,Youth Group
END:VEVENT
BEGIN:VTIMEZONE
TZID:America/Chicago
X-LIC-LOCATION:America/Chicago
BEGIN:STANDARD
DTSTART:20241103T010000
TZOFFSETFROM:-0500
TZOFFSETTO:-0600
TZNAME:CST
END:STANDARD
END:VTIMEZONE
END:VCALENDAR