BEGIN:VCALENDAR
VERSION:2.0
PRODID:-//wp-events-plugin.com//7.2.3.1//EN
TZID:America/Chicago
X-WR-TIMEZONE:America/Chicago
BEGIN:VEVENT
UID:1914@bnaijehudah.org
DTSTART;TZID=America/Chicago:20250312T183000
DTEND;TZID=America/Chicago:20250312T201500
DTSTAMP:20250227T204909Z
URL:https://bnaijehudah.org/events/6th-9th-grade-youth-group-2/
SUMMARY:6th-9th Grade Youth Group: Purim Party
DESCRIPTION:There will be hamantaschen making\, an emoji megillah reading\,
  a mitzvah project opportunity to fulfill the mitzvah of matanot l’evyo
 nim (gifts for those in need) and a chance to create mishloach manot (gi
 fts for friends and family).\n\nFree! Register here.
ATTACH;FMTTYPE=image/jpeg:https://bnaijehudah.org/wp-content/uploads/2025/
 02/6th-9th-Grade-Youth-Group-Purim-Party.png
CATEGORIES:Yalla! and Youth,Youth Group
END:VEVENT
BEGIN:VTIMEZONE
TZID:America/Chicago
X-LIC-LOCATION:America/Chicago
BEGIN:DAYLIGHT
DTSTART:20250309T030000
TZOFFSETFROM:-0600
TZOFFSETTO:-0500
TZNAME:CDT
END:DAYLIGHT
END:VTIMEZONE
END:VCALENDAR