BEGIN:VCALENDAR
VERSION:2.0
PRODID:-//wp-events-plugin.com//7.2.3.1//EN
TZID:America/Chicago
X-WR-TIMEZONE:America/Chicago
BEGIN:VEVENT
UID:1813@bnaijehudah.org
DTSTART;TZID=America/Chicago:20240921T130000
DTEND;TZID=America/Chicago:20240921T143000
DTSTAMP:20240908T185427Z
URL:https://bnaijehudah.org/events/adult-bnai-mitzvah-class-2-2024-09-21/
SUMMARY:Adult B'nai Mitzvah Class
DESCRIPTION:Meets 2-3 times per month in the TTCBJ Library on Saturdays fro
 m 1:00pm-2:30pm.\nSaturday\, August 3\nSaturday\, August 10\nSaturday\, Au
 gust 24\nSaturday\, September 7\nSaturday\, September 21\nSaturday\, Novem
 ber 2\nSaturday\, November 16\nSaturday\, December 7\nSaturday\, December 
 21\nSaturday\, January 11\nSaturday\, January 18\nSaturday\, January 25\nS
 aturday\, February 1
ATTACH;FMTTYPE=image/jpeg:https://bnaijehudah.org/wp-content/uploads/2024/
 07/IMG_6052-scaled.jpg
CATEGORIES:Adult Education
END:VEVENT
BEGIN:VTIMEZONE
TZID:America/Chicago
X-LIC-LOCATION:America/Chicago
BEGIN:DAYLIGHT
DTSTART:20240310T030000
TZOFFSETFROM:-0600
TZOFFSETTO:-0500
TZNAME:CDT
END:DAYLIGHT
END:VTIMEZONE
END:VCALENDAR