BEGIN:VCALENDAR
VERSION:2.0
PRODID:-//wp-events-plugin.com//7.2.3.1//EN
TZID:America/Chicago
X-WR-TIMEZONE:America/Chicago
BEGIN:VEVENT
UID:2421@bnaijehudah.org
DTSTART;TZID=America/Chicago:20250216T150000
DTEND;TZID=America/Chicago:20250216T163000
DTSTAMP:20250128T155749Z
URL:https://bnaijehudah.org/events/annual-tu-bshevat-seder/
SUMMARY:Annual Tu B'Shevat Seder
DESCRIPTION:Celebrate Tu B’Shevat\, the New Year for Trees! Though it may
  be winter in Kansas City\, the almond trees in Israel are preparing to bl
 oom\, ushering in the spirit of spring.\n\nThis annual celebration feature
 s a festive meal with symbolic fruits\, nuts\, and treats\, honoring natur
 e\, tradition and community. Plus\, enjoy the presentation of the Mitzvah 
 Garden KC "Golden Trowel" Awards.\n\nRegistration deadline is Monday\, Feb
 ruary 10!\n\nFor more information or to register\, please visit the J KC's
  website: www.thejkc.org/tubshevat.\n\nOr contact Lorena Williams at lwill
 iams@villageshalom.org or (913) 266-8431.\n\nThis program will be held at 
 Village Shalom's Social Hall\, 5500 W 123rd St\, Overland Park.
ATTACH;FMTTYPE=image/jpeg:https://bnaijehudah.org/wp-content/uploads/2025/
 01/1.png
CATEGORIES:Holiday Programming,TTCBJ
END:VEVENT
BEGIN:VTIMEZONE
TZID:America/Chicago
X-LIC-LOCATION:America/Chicago
BEGIN:STANDARD
DTSTART:20241103T010000
TZOFFSETFROM:-0500
TZOFFSETTO:-0600
TZNAME:CST
END:STANDARD
END:VTIMEZONE
END:VCALENDAR