BEGIN:VCALENDAR
VERSION:2.0
PRODID:-//wp-events-plugin.com//7.2.3.1//EN
TZID:America/Chicago
X-WR-TIMEZONE:America/Chicago
BEGIN:VEVENT
UID:1226@bnaijehudah.org
DTSTART;TZID=America/Chicago:20240505T090000
DTEND;TZID=America/Chicago:20240505T090000
DTSTAMP:20240517T170420Z
URL:https://bnaijehudah.org/events/annualmeeting24/
SUMMARY:Breakfast of Champions & Annual Meeting
DESCRIPTION:Annual Meeting/Breakfast of Champions! Come to our annual meeti
 ng featuring free brunch.\n\nRegister here.
ATTACH;FMTTYPE=image/jpeg:https://bnaijehudah.org/wp-content/uploads/2023/
 12/annual-meeting.png
CATEGORIES:Community Connections
END:VEVENT
BEGIN:VTIMEZONE
TZID:America/Chicago
X-LIC-LOCATION:America/Chicago
BEGIN:DAYLIGHT
DTSTART:20240310T030000
TZOFFSETFROM:-0600
TZOFFSETTO:-0500
TZNAME:CDT
END:DAYLIGHT
END:VTIMEZONE
END:VCALENDAR