BEGIN:VCALENDAR
VERSION:2.0
PRODID:-//wp-events-plugin.com//7.2.3.1//EN
TZID:America/Chicago
X-WR-TIMEZONE:America/Chicago
BEGIN:VEVENT
UID:1801@bnaijehudah.org
DTSTART;TZID=America/Chicago;VALUE=DATE:20240913
DTEND;TZID=America/Chicago;VALUE=DATE:20240916
DTSTAMP:20240813T165448Z
URL:https://bnaijehudah.org/events/artist-in-residence-weekend-featuring-d
 an-nichols/
SUMMARY:Artist-in-Residence Weekend Featuring Dan Nichols
DESCRIPTION:Join us for a lively weekend of music and fun with our Artist-
 in-Residence\, Jewish musician Dan Nichols!Dan is an internationally renow
 ned musician and teacher whose gift for songwriting\, especially for camp-
 age youth\, has earned him a place among the most recognized and beloved J
 ewish musical artists of the 21st century. Be here for one or all of Dan
 ’s programs! This jam-packed Artist-in-Residence weekend is proudly spon
 sored by the Michael Klein Collection.		\n			/*! elementor - v3.23.0 - 05-
 08-2024 */\n.elementor-heading-title{padding:0\;margin:0\;line-height:1}.e
 lementor-widget-heading .elementor-heading-title[class*=elementor-size-]>a
 {color:inherit\;font-size:inherit\;line-height:inherit}.elementor-widget-h
 eading .elementor-heading-title.elementor-size-small{font-size:15px}.eleme
 ntor-widget-heading .elementor-heading-title.elementor-size-medium{font-si
 ze:19px}.elementor-widget-heading .elementor-heading-title.elementor-size-
 large{font-size:29px}.elementor-widget-heading .elementor-heading-title.el
 ementor-size-xl{font-size:39px}.elementor-widget-heading .elementor-headin
 g-title.elementor-size-xxl{font-size:59px}Click on links below to learn mo
 re and register!		\n		[events_list category="30"]#_EVENTLINK - #_EVENTDATE
 S\, #_EVENTTIMES[/events_list]
ATTACH;FMTTYPE=image/jpeg:https://bnaijehudah.org/wp-content/uploads/2024/
 07/dan-nichols-web.png
CATEGORIES:Artist In Residence,Community Connections,Klein
 Collection,Shabbat,Yalla! and Youth
END:VEVENT
BEGIN:VTIMEZONE
TZID:America/Chicago
X-LIC-LOCATION:America/Chicago
BEGIN:DAYLIGHT
DTSTART:20240310T030000
TZOFFSETFROM:-0600
TZOFFSETTO:-0500
TZNAME:CDT
END:DAYLIGHT
END:VTIMEZONE
END:VCALENDAR