BEGIN:VCALENDAR
VERSION:2.0
PRODID:-//wp-events-plugin.com//7.2.3.1//EN
TZID:America/Chicago
X-WR-TIMEZONE:America/Chicago
BEGIN:VEVENT
UID:304@bnaijehudah.org
DTSTART;TZID=America/Chicago:20240225T090000
DTEND;TZID=America/Chicago:20240225T100000
DTSTAMP:20240221T231303Z
URL:https://bnaijehudah.org/events/babies-tots-bs-ts/
SUMMARY:Babies & Tots (B's & T's)
DESCRIPTION:Have babies or tots\, and want to connect with other young Jewi
 sh families in Kansas City? Join other parents and get to know each other 
 while your kids play with Rabbi Rothstein! All are welcome\, even if you a
 ren’t a member of B’nai Jehudah. This Bs and Ts will take place at som
 eone's home so the address will be shared with those who RSVP.\n\nRegister
  here.
CATEGORIES:Community Connections,Young Families
END:VEVENT
BEGIN:VTIMEZONE
TZID:America/Chicago
X-LIC-LOCATION:America/Chicago
BEGIN:STANDARD
DTSTART:20231105T010000
TZOFFSETFROM:-0500
TZOFFSETTO:-0600
TZNAME:CST
END:STANDARD
END:VTIMEZONE
END:VCALENDAR