BEGIN:VCALENDAR
VERSION:2.0
PRODID:-//wp-events-plugin.com//7.2.3.1//EN
TZID:America/Chicago
X-WR-TIMEZONE:America/Chicago
BEGIN:VEVENT
UID:1228@bnaijehudah.org
DTSTART;TZID=America/Chicago:20240121T090000
DTEND;TZID=America/Chicago:20240121T100000
DTSTAMP:20240108T215936Z
URL:https://bnaijehudah.org/events/babiestotsjan2024/
SUMMARY:Babies & Tots
DESCRIPTION:Have little ones that are too young for Yalla!\, and not sure w
 hat to do with them after you drop your kids off\, or just want to connect
  with other young Jewish families in Kansas City? Join Rabbi Rothstein for
  an engaging and music-filled hour where parents can get to know each othe
 r and where kids can play! All are welcome\, even if you don’t have kids
  in Yalla\, or aren’t a member of B’nai Jehudah. We’ll meet in the K
 ikar and head to our Youth Lounge for an interactive hour of Jewish music\
 , socializing and fun.\n\nRegister here!
CATEGORIES:Community Connections,Young Families
END:VEVENT
BEGIN:VTIMEZONE
TZID:America/Chicago
X-LIC-LOCATION:America/Chicago
BEGIN:STANDARD
DTSTART:20231105T010000
TZOFFSETFROM:-0500
TZOFFSETTO:-0600
TZNAME:CST
END:STANDARD
END:VTIMEZONE
END:VCALENDAR