BEGIN:VCALENDAR
VERSION:2.0
PRODID:-//wp-events-plugin.com//7.2.3.1//EN
TZID:America/Chicago
X-WR-TIMEZONE:America/Chicago
BEGIN:VEVENT
UID:204@bnaijehudah.org
DTSTART;TZID=America/Chicago:20240328T120000
DTEND;TZID=America/Chicago:20240328T133000
DTSTAMP:20240319T130812Z
URL:https://bnaijehudah.org/events/bdikat-hametz-the-meaning-behind-cleari
 ng-our-homes-for-passover/
SUMMARY:B'dikat Hametz: The Meaning Behind Clearing Our Homes for Passover
DESCRIPTION:Join Rabbi Levin In this session where we will reconsider the t
 raditional Passover search and ridding the home of hametz [leavened grai
 ns]\, utilizing a little known yet traditional spiritual and social justic
 e prayer. This class seeks to increase the relevance and importance among 
 Jewish families and communities of refraining from hametz\, introducing a
  meaningful traditional idea equating leavening with the yetzer haRa\, th
 e inclination to evil. We will make the ritual both more relevant and fami
 ly and community friendly.\n\nWhere: TTCBJ Library\n\nRegister here.
ATTACH;FMTTYPE=image/jpeg:https://bnaijehudah.org/wp-content/uploads/2023/
 12/bdikat-hametz.png
CATEGORIES:Adult Education
END:VEVENT
BEGIN:VTIMEZONE
TZID:America/Chicago
X-LIC-LOCATION:America/Chicago
BEGIN:DAYLIGHT
DTSTART:20240310T030000
TZOFFSETFROM:-0600
TZOFFSETTO:-0500
TZNAME:CDT
END:DAYLIGHT
END:VTIMEZONE
END:VCALENDAR