BEGIN:VCALENDAR
VERSION:2.0
PRODID:-//wp-events-plugin.com//7.2.3.1//EN
TZID:America/Chicago
X-WR-TIMEZONE:America/Chicago
BEGIN:VEVENT
UID:1701@bnaijehudah.org
DTSTART;TZID=America/Chicago:20250309T090000
DTEND;TZID=America/Chicago:20250309T110000
DTSTAMP:20241113T012033Z
URL:https://bnaijehudah.org/events/becoming-class-4/
SUMMARY:Becoming Class
DESCRIPTION:Becoming Class Dates:\n\nThe Becoming Class is for all B’nai 
 Jehudah students in grade 6 (at Yalla! and at HBHA) and their parents/guar
 dians.\n\nSeptember 22\, 9:00am – 11:00am (Yalla! students stay for Hebr
 ew following the Becoming Class)\n\nNovember 17\, 9:00am – 11:00am (Yall
 a! students stay for Hebrew following the Becoming Class)\n\nFebruary 8\, 
 10:00am – 1:00pm\n\nMarch 9\, 9:00am – 11:00am (Yalla! students stay f
 or Hebrew following the Becoming Class)
CATEGORIES:Yalla! and Youth
END:VEVENT
BEGIN:VTIMEZONE
TZID:America/Chicago
X-LIC-LOCATION:America/Chicago
BEGIN:DAYLIGHT
DTSTART:20250309T030000
TZOFFSETFROM:-0600
TZOFFSETTO:-0500
TZNAME:CDT
END:DAYLIGHT
END:VTIMEZONE
END:VCALENDAR