BEGIN:VCALENDAR
VERSION:2.0
PRODID:-//wp-events-plugin.com//7.2.3.1//EN
TZID:America/Chicago
X-WR-TIMEZONE:America/Chicago
BEGIN:VEVENT
UID:2666@bnaijehudah.org
DTSTART;TZID=America/Chicago:20251102T090000
DTEND;TZID=America/Chicago:20251102T110000
DTSTAMP:20250824T152411Z
URL:https://bnaijehudah.org/events/becoming-class-for-6th-graders-and-thei
 r-parents-2/
SUMMARY:Becoming Class for 6th Graders and Their Parents
DESCRIPTION:
CATEGORIES:Becoming Class for Grade 6,Yalla! and Youth
END:VEVENT
BEGIN:VTIMEZONE
TZID:America/Chicago
X-LIC-LOCATION:America/Chicago
BEGIN:STANDARD
DTSTART:20251102T010000
TZOFFSETFROM:-0500
TZOFFSETTO:-0600
TZNAME:CST
END:STANDARD
END:VTIMEZONE
END:VCALENDAR