BEGIN:VCALENDAR
VERSION:2.0
PRODID:-//wp-events-plugin.com//7.2.3.1//EN
TZID:America/Chicago
X-WR-TIMEZONE:America/Chicago
BEGIN:VEVENT
UID:1927@bnaijehudah.org
DTSTART;TZID=America/Chicago:20241019T100000
DTEND;TZID=America/Chicago:20241019T100000
DTSTAMP:20241015T210911Z
URL:https://bnaijehudah.org/events/bike-and-coffee-hop/
SUMMARY:CANCELED: Bike and Coffee Hop
DESCRIPTION:Opera Coffee House | 500 Walnut St\, Kansas City\nJoin us on a 
 Shabbat bike and coffee hop through the River Market! We'll bike half a mi
 le from the Opera Coffee House toward the River Front Heritage Trail with 
 pit stops along the way. BYO…bike! Don’t bike? No problem! Just meet u
 s at Opera Coffee House and we’ll give you the route to walk.\n&nbsp\;
ATTACH;FMTTYPE=image/jpeg:https://bnaijehudah.org/wp-content/uploads/2024/
 07/bike-and-coffee-hop.png
CATEGORIES:Community Connections
END:VEVENT
BEGIN:VTIMEZONE
TZID:America/Chicago
X-LIC-LOCATION:America/Chicago
BEGIN:DAYLIGHT
DTSTART:20240310T030000
TZOFFSETFROM:-0600
TZOFFSETTO:-0500
TZNAME:CDT
END:DAYLIGHT
END:VTIMEZONE
END:VCALENDAR