BEGIN:VCALENDAR
VERSION:2.0
PRODID:-//wp-events-plugin.com//7.2.3.1//EN
TZID:America/Chicago
X-WR-TIMEZONE:America/Chicago
BEGIN:VEVENT
UID:28@bnaijehudah.org
DTSTART;TZID=America/Chicago:20240531T180000
DTEND;TZID=America/Chicago:20240531T190000
DTSTAMP:20240519T142747Z
URL:https://bnaijehudah.org/events/board-installation-shabbat/
SUMMARY:Board Installation Shabbat
DESCRIPTION:Join us for a special Shabbat service\, where we will welcome i
 n new members of our Board as we celebrate Erev Shabbat together. It's a w
 onderful opportunity to come together as a community in celebration and we
 lcome our newly elected leaders.
ATTACH;FMTTYPE=image/jpeg:https://bnaijehudah.org/wp-content/uploads/2023/
 12/board-installation-shabbat.png
CATEGORIES:TTCBJ
END:VEVENT
BEGIN:VTIMEZONE
TZID:America/Chicago
X-LIC-LOCATION:America/Chicago
BEGIN:DAYLIGHT
DTSTART:20240310T030000
TZOFFSETFROM:-0600
TZOFFSETTO:-0500
TZNAME:CDT
END:DAYLIGHT
END:VTIMEZONE
END:VCALENDAR