BEGIN:VCALENDAR
VERSION:2.0
PRODID:-//wp-events-plugin.com//7.2.3.1//EN
TZID:America/Chicago
X-WR-TIMEZONE:America/Chicago
BEGIN:VEVENT
UID:210@bnaijehudah.org
DTSTART;TZID=America/Chicago:20240421T120000
DTEND;TZID=America/Chicago:20240421T170000
DTSTAMP:20240405T232549Z
URL:https://bnaijehudah.org/events/brotherhood-baseball-outing/
SUMMARY:Brotherhood Baseball Outing
DESCRIPTION:\nJoin Brotherhood for the Royals vs. Orioles game on Sunday\, 
 April 21! We will meet at the synagogue at 12:00pm and carpool for a 1:10p
 m start. $40 gets you a ticket in the Rivals Sports Bar (each ticket has $
 20 loaded for food or drink). We only have 30 tickets available and need 8
  drivers. RSVP ASAP.\n\nRegister here.
ATTACH;FMTTYPE=image/jpeg:https://bnaijehudah.org/wp-content/uploads/2023/
 12/baseball-web.png
CATEGORIES:Brotherhood
END:VEVENT
BEGIN:VTIMEZONE
TZID:America/Chicago
X-LIC-LOCATION:America/Chicago
BEGIN:DAYLIGHT
DTSTART:20240310T030000
TZOFFSETFROM:-0600
TZOFFSETTO:-0500
TZNAME:CDT
END:DAYLIGHT
END:VTIMEZONE
END:VCALENDAR