BEGIN:VCALENDAR
VERSION:2.0
PRODID:-//wp-events-plugin.com//7.2.3.1//EN
TZID:America/Chicago
X-WR-TIMEZONE:America/Chicago
BEGIN:VEVENT
UID:1929@bnaijehudah.org
DTSTART;TZID=America/Chicago:20241107T190000
DTEND;TZID=America/Chicago:20241107T203000
DTSTAMP:20240716T132155Z
URL:https://bnaijehudah.org/events/brotherhood-bourbon-tasting-2/
SUMMARY:Brotherhood Bourbon Tasting
DESCRIPTION:Come join us for the 4th installment of the TTCBJ Brotherhood B
 ourbon Tasting. This time we will be sampling HIGH PROOF bourbons. We're n
 o pros\, but we enjoy sampling bourbons. If this describes you (or even if
  you don't like bourbon) please mark your calendars and register for this 
 event.\nCost: $30/person\nRegister here.
ATTACH;FMTTYPE=image/jpeg:https://bnaijehudah.org/wp-content/uploads/2024/
 07/Brotherhood-Bourbon-Tasting-TILE-800-x-600-px.png
CATEGORIES:Brotherhood
END:VEVENT
BEGIN:VTIMEZONE
TZID:America/Chicago
X-LIC-LOCATION:America/Chicago
BEGIN:STANDARD
DTSTART:20241103T010000
TZOFFSETFROM:-0500
TZOFFSETTO:-0600
TZNAME:CST
END:STANDARD
END:VTIMEZONE
END:VCALENDAR