BEGIN:VCALENDAR
VERSION:2.0
PRODID:-//wp-events-plugin.com//7.2.3.1//EN
TZID:America/Chicago
X-WR-TIMEZONE:America/Chicago
BEGIN:VEVENT
UID:2298@bnaijehudah.org
DTSTART;TZID=America/Chicago:20250306T190000
DTEND;TZID=America/Chicago:20250306T203000
DTSTAMP:20250116T044140Z
URL:https://bnaijehudah.org/events/brotherhood-bourbon-tasting-3/
SUMMARY:Brotherhood Bourbon Tasting
DESCRIPTION:Join us for the fifth installment of the TTCBJ Brotherhood Bour
 bon Tasting. What will we be tasting? It's a surprise this time! Please ma
 rk your calendars and register for this event. It's $30/person to try some
  new bourbons. \n\nRegister here.
ATTACH;FMTTYPE=image/jpeg:https://bnaijehudah.org/wp-content/uploads/2024/
 11/Brotherhood-Bourbon-Tasting-TILE-800-x-600-px-1.png
CATEGORIES:Brotherhood
END:VEVENT
BEGIN:VTIMEZONE
TZID:America/Chicago
X-LIC-LOCATION:America/Chicago
BEGIN:STANDARD
DTSTART:20241103T010000
TZOFFSETFROM:-0500
TZOFFSETTO:-0600
TZNAME:CST
END:STANDARD
END:VTIMEZONE
END:VCALENDAR