BEGIN:VCALENDAR
VERSION:2.0
PRODID:-//wp-events-plugin.com//7.2.3.1//EN
TZID:America/Chicago
X-WR-TIMEZONE:America/Chicago
BEGIN:VEVENT
UID:208@bnaijehudah.org
DTSTART;TZID=America/Chicago:20240118T190000
DTEND;TZID=America/Chicago:20240118T203000
DTSTAMP:20231222T180843Z
URL:https://bnaijehudah.org/events/brotherhood-bourbon-tasting/
SUMMARY:Brotherhood Bourbon Tasting
DESCRIPTION:Come join us in our 3rd installment of the TTCBJ Brotherhood Bo
 urbon Tasting on January 18th\, 2024 where we will have some fun with a BI
 G selection of bourbons to taste\, snacks and a raffle for some bourbon. W
 e're no pros\, but we enjoy drinking bourbon. If this describes you (or ev
 en if you happen to not like bourbon\, but want some community) then pleas
 e mark your calendars and register for this evening and we look forward to
  seeing you there!\n\nPrice will be $30 per person\, to pay for the bourbo
 n!
CATEGORIES:Brotherhood
END:VEVENT
BEGIN:VTIMEZONE
TZID:America/Chicago
X-LIC-LOCATION:America/Chicago
BEGIN:STANDARD
DTSTART:20231105T010000
TZOFFSETFROM:-0500
TZOFFSETTO:-0600
TZNAME:CST
END:STANDARD
END:VTIMEZONE
END:VCALENDAR