BEGIN:VCALENDAR
VERSION:2.0
PRODID:-//wp-events-plugin.com//7.2.3.1//EN
TZID:America/Chicago
X-WR-TIMEZONE:America/Chicago
BEGIN:VEVENT
UID:209@bnaijehudah.org
DTSTART;TZID=America/Chicago:20240212T180000
DTEND;TZID=America/Chicago:20240212T210000
DTSTAMP:20240125T144542Z
URL:https://bnaijehudah.org/events/brotherhood-card-game-night/
SUMMARY:Brotherhood Card Game Night
DESCRIPTION:Join us for a Brotherhood Card Game Night in the TTCBJ Social H
 all.\n\nCard game starts promptly at 7:00pm.\nCome watch Kansas basketball
  take on TEXAS Tech (game starts at 8:00pm) and we’ll play some card ga
 mes! HOLD on tight\, and we hope doesn’t celebrate with “wreck\n‘EM
 ” red\, as we play cards and discuss KU’s chances in the march madness
  TOURNAMENT. (See what we did there?)\n\nRegistration limited to 40 member
 s. Cost: $20/person. Brotherhood will provide snacks but bring your own al
 cohol. We hope you BUY IN $20 to support Brotherhood. Half to Brotherhood 
 and 3 WINNERS of prizes Bring cash or plan to Venmo for a brotherhood raff
 le!\nREGISTER HERE
ATTACH;FMTTYPE=image/jpeg:https://bnaijehudah.org/wp-content/uploads/2023/
 12/brotherhood-game-night.png
CATEGORIES:Brotherhood
END:VEVENT
BEGIN:VTIMEZONE
TZID:America/Chicago
X-LIC-LOCATION:America/Chicago
BEGIN:STANDARD
DTSTART:20231105T010000
TZOFFSETFROM:-0500
TZOFFSETTO:-0600
TZNAME:CST
END:STANDARD
END:VTIMEZONE
END:VCALENDAR