BEGIN:VCALENDAR
VERSION:2.0
PRODID:-//wp-events-plugin.com//7.2.3.1//EN
TZID:America/Chicago
X-WR-TIMEZONE:America/Chicago
BEGIN:VEVENT
UID:2658@bnaijehudah.org
DTSTART;TZID=America/Chicago;VALUE=DATE:20250914
DTEND;TZID=America/Chicago;VALUE=DATE:20250915
DTSTAMP:20250715T193402Z
URL:https://bnaijehudah.org/events/challah-for-the-high-holy-days/
SUMMARY:Challah for the High Holy Days
DESCRIPTION:Back by popular demand\, Sisterhood and McClain's are bringing 
 you round challahs for the Holidays. $14 per loaf\, raisin or plain.\n\nPi
 ck up for Rosh HaShanah: September 21\, 8:30am-12:30pm\nPick up for Yom Ki
 ppur: September 30\, 5:00pm-6:30pm or October 1\, 11:00am-12:30pm\n\nDirec
 t challah donations to JFS are also available to help those in need.\n\nOr
 der here.
ATTACH;FMTTYPE=image/jpeg:https://bnaijehudah.org/wp-content/uploads/2025/
 07/Challah-for-the-High-Holy-Days-800-x-600-px-2.png
CATEGORIES:Sisterhood
END:VEVENT
BEGIN:VTIMEZONE
TZID:America/Chicago
X-LIC-LOCATION:America/Chicago
BEGIN:DAYLIGHT
DTSTART:20250309T030000
TZOFFSETFROM:-0600
TZOFFSETTO:-0500
TZNAME:CDT
END:DAYLIGHT
END:VTIMEZONE
END:VCALENDAR