BEGIN:VCALENDAR
VERSION:2.0
PRODID:-//wp-events-plugin.com//7.2.3.1//EN
TZID:America/Chicago
X-WR-TIMEZONE:America/Chicago
BEGIN:VEVENT
UID:249@bnaijehudah.org
DTSTART;TZID=America/Chicago:20240111T130000
DTEND;TZID=America/Chicago:20240111T140000
DTSTAMP:20231222T181652Z
URL:https://bnaijehudah.org/events/coffee-with-kramer/
SUMMARY:Coffee with Kramer
DESCRIPTION:Come for coffee\, conversation and connections at Bnai Jehudah 
 with Rabbi Kramer! We'll chat over coffee and get to know more about our f
 ellow B’nai Jehudah members. This free\, casual event is for B’nai Jeh
 udah members ages 60+\; no registration needed\, walk-ins welcome!
CATEGORIES:Community Connections
END:VEVENT
BEGIN:VTIMEZONE
TZID:America/Chicago
X-LIC-LOCATION:America/Chicago
BEGIN:STANDARD
DTSTART:20231105T010000
TZOFFSETFROM:-0500
TZOFFSETTO:-0600
TZNAME:CST
END:STANDARD
END:VTIMEZONE
END:VCALENDAR