BEGIN:VCALENDAR
VERSION:2.0
PRODID:-//wp-events-plugin.com//7.2.3.1//EN
TZID:America/Chicago
X-WR-TIMEZONE:America/Chicago
BEGIN:VEVENT
UID:346@bnaijehudah.org
DTSTART;TZID=America/Chicago:20240324T140000
DTEND;TZID=America/Chicago:20240324T170000
DTSTAMP:20240228T030442Z
URL:https://bnaijehudah.org/events/community-wide-purim-carnival/
SUMMARY:Community-Wide Purim Event
DESCRIPTION:Celebrate Purim this year!\nJoin us for a community Purim event
  – Purim 1000! Held at the Jewish Community Campus this family-friendly 
 event will have bounce houses\, carnival games\, cotton candy\, hamantasch
 en and more!\n\n 	$18 for families of 4 or more\n 	$5 for adults (ages 14+
 )\n 	$4 for children ages 3-13\n 	Children under 3 are free\n\nThe J\, 580
 1 W 115\, Street Overland Park\n\nRegister here.
ATTACH;FMTTYPE=image/jpeg:https://bnaijehudah.org/wp-content/uploads/2023/
 12/thumbnail.png
CATEGORIES:Community Connections,Holiday Programming,Purim,Young Families
END:VEVENT
BEGIN:VTIMEZONE
TZID:America/Chicago
X-LIC-LOCATION:America/Chicago
BEGIN:DAYLIGHT
DTSTART:20240310T030000
TZOFFSETFROM:-0600
TZOFFSETTO:-0500
TZNAME:CDT
END:DAYLIGHT
END:VTIMEZONE
END:VCALENDAR