BEGIN:VCALENDAR
VERSION:2.0
PRODID:-//wp-events-plugin.com//7.2.3.1//EN
TZID:America/Chicago
X-WR-TIMEZONE:America/Chicago
BEGIN:VEVENT
UID:831@bnaijehudah.org
DTSTART;TZID=America/Chicago:20241017T174500
DTEND;TZID=America/Chicago:20241017T174500
DTSTAMP:20240729T133844Z
URL:https://bnaijehudah.org/events/daily-minyan-virtual-only-2024-10-17/
SUMMARY:Sukkot Festival Daily Minyan (Virtual Only)
DESCRIPTION:Join us online for this Sukkot Festival Service during our Dail
 y Minyan Livestream!\n\nDaily reading of Kaddish list\, held via FACEBOOK 
 LIVE (15-30 min)
CATEGORIES:Holiday Programming,Sukkot and Simchat Torah,TTCBJ
END:VEVENT
BEGIN:VTIMEZONE
TZID:America/Chicago
X-LIC-LOCATION:America/Chicago
BEGIN:DAYLIGHT
DTSTART:20240310T030000
TZOFFSETFROM:-0600
TZOFFSETTO:-0500
TZNAME:CDT
END:DAYLIGHT
END:VTIMEZONE
END:VCALENDAR