BEGIN:VCALENDAR
VERSION:2.0
PRODID:-//wp-events-plugin.com//7.2.3.1//EN
TZID:America/Chicago
X-WR-TIMEZONE:America/Chicago
BEGIN:VEVENT
UID:1961@bnaijehudah.org
DTSTART;TZID=America/Chicago:20240914T150000
DTEND;TZID=America/Chicago:20240914T150000
DTSTAMP:20240813T151716Z
URL:https://bnaijehudah.org/events/dan-nichols-adult-learning/
SUMMARY:Oh My God! Adult Learning with Dan Nichols
DESCRIPTION:Songwriters often make references to God in their music. Learn 
 more about some of these songs and the possible intentions behind their wo
 rds.\nRegister here.
CATEGORIES:Adult Education,Artist In Residence
END:VEVENT
BEGIN:VTIMEZONE
TZID:America/Chicago
X-LIC-LOCATION:America/Chicago
BEGIN:DAYLIGHT
DTSTART:20240310T030000
TZOFFSETFROM:-0600
TZOFFSETTO:-0500
TZNAME:CDT
END:DAYLIGHT
END:VTIMEZONE
END:VCALENDAR