BEGIN:VCALENDAR
VERSION:2.0
PRODID:-//wp-events-plugin.com//7.2.3.1//EN
TZID:America/Chicago
X-WR-TIMEZONE:America/Chicago
BEGIN:VEVENT
UID:1960@bnaijehudah.org
DTSTART;TZID=America/Chicago;VALUE=DATE:20240914
DTEND;TZID=America/Chicago;VALUE=DATE:20240915
DTSTAMP:20240813T165102Z
URL:https://bnaijehudah.org/events/dannicholshillel/
SUMMARY:Dan Nichols Heads to Hillel
DESCRIPTION:KU students and friends in Lawrence are invited to sing with Da
 n at the Hillel office next to the KU campus!\nKU Hillel | 1121 Indiana St
 .\, Suite C\, Lawrence
CATEGORIES:Artist In Residence,Community Connections
END:VEVENT
BEGIN:VTIMEZONE
TZID:America/Chicago
X-LIC-LOCATION:America/Chicago
BEGIN:DAYLIGHT
DTSTART:20240310T030000
TZOFFSETFROM:-0600
TZOFFSETTO:-0500
TZNAME:CDT
END:DAYLIGHT
END:VTIMEZONE
END:VCALENDAR