BEGIN:VCALENDAR
VERSION:2.0
PRODID:-//wp-events-plugin.com//7.2.3.1//EN
TZID:America/Chicago
X-WR-TIMEZONE:America/Chicago
BEGIN:VEVENT
UID:1751@bnaijehudah.org
DTSTART;TZID=America/Chicago:20241002T193000
DTEND;TZID=America/Chicago:20241002T210000
DTSTAMP:20240706T141539Z
URL:https://bnaijehudah.org/events/erev-rosh-hashanah/
SUMMARY:Erev Rosh HaShanah
DESCRIPTION:Usher in the New Year together as we turn our hearts towards th
 e sound of the shofar. B'nai Jehudah President Andy Navran will offer brie
 f remarks. Following the service\, enjoy apples and honey sponsored by our
  Sisterhood for a sweet New Year.\n\nRegister here.
END:VEVENT
BEGIN:VTIMEZONE
TZID:America/Chicago
X-LIC-LOCATION:America/Chicago
BEGIN:DAYLIGHT
DTSTART:20240310T030000
TZOFFSETFROM:-0600
TZOFFSETTO:-0500
TZNAME:CDT
END:DAYLIGHT
END:VTIMEZONE
END:VCALENDAR