BEGIN:VCALENDAR
VERSION:2.0
PRODID:-//wp-events-plugin.com//7.2.3.1//EN
TZID:America/Chicago
X-WR-TIMEZONE:America/Chicago
BEGIN:VEVENT
UID:1487@bnaijehudah.org
DTSTART;TZID=America/Chicago:20240823T180000
DTEND;TZID=America/Chicago:20240823T190000
DTSTAMP:20240818T212638Z
URL:https://bnaijehudah.org/events/erev-shabbat-service-2024-08-23/
SUMMARY:Erev Shabbat Service - New Jew Shabbat
DESCRIPTION:Come celebrate the newest members of the tribe! Celebrate folks
  who have completed their conversions in the past two years for services.
ATTACH;FMTTYPE=image/jpeg:https://bnaijehudah.org/wp-content/uploads/2023/
 12/Copy-of-Copy-of-Copy-of-New-Jew-Shabbat-Dinner-Instagram-Post-800-x-600
 -px.png
CATEGORIES:Shabbat,TTCBJ
END:VEVENT
BEGIN:VTIMEZONE
TZID:America/Chicago
X-LIC-LOCATION:America/Chicago
BEGIN:DAYLIGHT
DTSTART:20240310T030000
TZOFFSETFROM:-0600
TZOFFSETTO:-0500
TZNAME:CDT
END:DAYLIGHT
END:VTIMEZONE
END:VCALENDAR