BEGIN:VCALENDAR
VERSION:2.0
PRODID:-//wp-events-plugin.com//7.2.3.1//EN
TZID:America/Chicago
X-WR-TIMEZONE:America/Chicago
BEGIN:VEVENT
UID:1490@bnaijehudah.org
DTSTART;TZID=America/Chicago:20240913T180000
DTEND;TZID=America/Chicago:20240913T180000
DTSTAMP:20240813T165129Z
URL:https://bnaijehudah.org/events/erev-shabbat-service-2024-09-13/
SUMMARY:Erev Shabbat Service featuring Dan Nichols
DESCRIPTION:Service at 6:00pm + Unplugged at 8:00pm\nJoin us for a vibrant\
 , musical Erev Shabbat Service with Artist-in-Residence Dan Nichols! Then\
 , bring your instrument and jam with Dan after Shabbat services during Dan
  Nichols Unplugged.\nRegister here for Dan Nichols Unplugged.
CATEGORIES:Artist In Residence,Community Connections,Shabbat,TTCBJ
END:VEVENT
BEGIN:VTIMEZONE
TZID:America/Chicago
X-LIC-LOCATION:America/Chicago
BEGIN:DAYLIGHT
DTSTART:20240310T030000
TZOFFSETFROM:-0600
TZOFFSETTO:-0500
TZNAME:CDT
END:DAYLIGHT
END:VTIMEZONE
END:VCALENDAR