BEGIN:VCALENDAR
VERSION:2.0
PRODID:-//wp-events-plugin.com//7.2.3.1//EN
TZID:America/Chicago
X-WR-TIMEZONE:America/Chicago
BEGIN:VEVENT
UID:1497@bnaijehudah.org
DTSTART;TZID=America/Chicago:20241101T180000
DTEND;TZID=America/Chicago:20241101T190000
DTSTAMP:20241028T134646Z
URL:https://bnaijehudah.org/events/erev-shabbat-service-2024-11-01/
SUMMARY:Pet Blessing Shabbat for Parashat Noach
DESCRIPTION:Shabbat Shalom. Come pray with us as we welcome this special Pe
 t Blessing Shabbat for Parashat Noach. Join us in person or virtually toni
 ght\, Friday\, November 1 at 6:00pm.\n\nIn honor of parashat Noach\, we wa
 nt to give our community the opportunity to bless their pets! Email your p
 hotos of your furry friends to RabbiRothstein@BnaiJehudah.org by Sunday\, 
 October 27 and attend services on Friday\, November 1 to send blessings th
 eir way!\n\nWe also have other special guests joining us - the visiting mu
 sical group\, Shakshuka! The word "shakshuka" literally means “all mixed
  up” and this fun group is comprised of old and new friends who play a m
 ix of Jewish and Israeli music\, adding new spice\, fragrance and taste to
  familiar tunes.\n\nTo participate virtually\, watch on our Facebook page 
 or on Vimeo.
ATTACH;FMTTYPE=image/jpeg:https://bnaijehudah.org/wp-content/uploads/2023/
 12/Copy-of-Pet-Blessing-Shabbat-for-Parashat-Noach-800-x-600-px.png
CATEGORIES:Shabbat,TTCBJ
END:VEVENT
BEGIN:VTIMEZONE
TZID:America/Chicago
X-LIC-LOCATION:America/Chicago
BEGIN:DAYLIGHT
DTSTART:20240310T030000
TZOFFSETFROM:-0600
TZOFFSETTO:-0500
TZNAME:CDT
END:DAYLIGHT
END:VTIMEZONE
END:VCALENDAR