BEGIN:VCALENDAR
VERSION:2.0
PRODID:-//wp-events-plugin.com//7.2.3.1//EN
TZID:America/Chicago
X-WR-TIMEZONE:America/Chicago
BEGIN:VEVENT
UID:1502@bnaijehudah.org
DTSTART;TZID=America/Chicago:20241206T180000
DTEND;TZID=America/Chicago:20241206T190000
DTSTAMP:20241128T200345Z
URL:https://bnaijehudah.org/events/erev-shabbat-service-2024-12-06/
SUMMARY:'Hoods Appreciation Shabbat Featuring Guest Artist Coleen Dieker
DESCRIPTION:Join us for a heartfelt ‘Hoods Appreciation Shabbat featuring
  guest musician Coleen Dieker on Friday\, December 6\, at 6:00pm as we cel
 ebrate the vital contributions of B’nai Jehudah’s Brotherhood and Sist
 erhood! These dedicated groups bring our community together through countl
 ess acts of service\, connection and support.\n\nBrotherhood provides B
 ’nai Jehudah families with impactful programs like the Brotherhood Break
 fast Cafe\, Fishing Derby\, Hanukkah treats\, Religious School initiatives
  and much more. Through Brotherhood\, our members experience camaraderie\,
  spirituality and the joy of giving back.\n\nSisterhood shines as a sourc
 e of unity and strength\, supporting our Congregation and youth and foster
 ing connections among women of all ages. Their Sundays with Sisterhood pro
 gram and other events create a vibrant community that strengthens B’nai 
 Jehudah from within.\n\nCome and show your appreciation for the Brotherhoo
 d and Sisterhood\, whose dedication enriches our congregation in so many w
 ays!
ATTACH;FMTTYPE=image/jpeg:https://bnaijehudah.org/wp-content/uploads/2023/
 12/hoods-web-graphic.png
CATEGORIES:Shabbat,TTCBJ
END:VEVENT
BEGIN:VTIMEZONE
TZID:America/Chicago
X-LIC-LOCATION:America/Chicago
BEGIN:STANDARD
DTSTART:20241103T010000
TZOFFSETFROM:-0500
TZOFFSETTO:-0600
TZNAME:CST
END:STANDARD
END:VTIMEZONE
END:VCALENDAR