BEGIN:VCALENDAR
VERSION:2.0
PRODID:-//wp-events-plugin.com//7.2.3.1//EN
TZID:America/Chicago
X-WR-TIMEZONE:America/Chicago
BEGIN:VEVENT
UID:1516@bnaijehudah.org
DTSTART;TZID=America/Chicago:20250314T180000
DTEND;TZID=America/Chicago:20250314T180000
DTSTAMP:20250218T173005Z
URL:https://bnaijehudah.org/events/erev-shabbat-service-2025-03-14/
SUMMARY:Purim Murder Mystery Shabbat and Dinner
DESCRIPTION:In Person and Virtual \n\nCelebrate Purim and Shabbat with you
 r B'nai Jehudah family with an interactive murder mystery party and dinner
 ! \n\n Celebrate Purim in a whole new way with this Purim-Themed Murder 
 Mystery Game and Dinner! It's the 14th day of Adar\, and the king has decr
 eed the blotting out of Haman's lineage for the heinous crimes he committe
 d against the Jewish people. Crowds dispersed just moments ago after witne
 ssing the spectacle of Haman's ten sons' hanging\, and all anyone wants to
  know is ...who was the masked hangman or woman? \n\n Was it Queen Esthe
 r herself seeking revenge? Or Joseph\, a local Jew whose life has been cha
 nged by the edict Haman passed? Perhaps the palace chef was one bad meal a
 way from being sentenced to death by Haman for a bad meal. \n\n There's 
 only one way to find out who is beneath the mask - play "The Hangman Murde
 rs: A Purim Mystery." But hold onto your robes - the hangman could be YOU!
  \n\n$36 per adult and $18 per child. \n\nRegister here.
ATTACH;FMTTYPE=image/jpeg:https://bnaijehudah.org/wp-content/uploads/2023/
 12/Purim-Murder-Mystery-Shabbat-and-Dinner-800-x-600-px.png
CATEGORIES:Shabbat,TTCBJ
END:VEVENT
BEGIN:VTIMEZONE
TZID:America/Chicago
X-LIC-LOCATION:America/Chicago
BEGIN:DAYLIGHT
DTSTART:20250309T030000
TZOFFSETFROM:-0600
TZOFFSETTO:-0500
TZNAME:CDT
END:DAYLIGHT
END:VTIMEZONE
END:VCALENDAR