BEGIN:VCALENDAR
VERSION:2.0
PRODID:-//wp-events-plugin.com//7.2.3.1//EN
TZID:America/Chicago
X-WR-TIMEZONE:America/Chicago
BEGIN:VEVENT
UID:311@bnaijehudah.org
DTSTART;TZID=America/Chicago:20240409T190000
DTEND;TZID=America/Chicago:20240409T203000
DTSTAMP:20240220T032151Z
URL:https://bnaijehudah.org/events/esther-brown-and-the-fight-for-civil-ri
 ghts-in-johnson-county/
SUMMARY:Esther Brown and the Fight For Civil Rights in Johnson County
DESCRIPTION:Who was Esther Brown? Dan Margolies shares the fruits of his on
 going research about this past B'nai Jehudah member's lifelong fight for c
 ivil rights in Johnson County.\n\nIn the TTCBJ Community Commons.\n\nRegis
 ter here.
ATTACH;FMTTYPE=image/jpeg:https://bnaijehudah.org/wp-content/uploads/2023/
 12/esther-brown-web.png
CATEGORIES:Community Connections,Klein Collection
END:VEVENT
BEGIN:VTIMEZONE
TZID:America/Chicago
X-LIC-LOCATION:America/Chicago
BEGIN:DAYLIGHT
DTSTART:20240310T030000
TZOFFSETFROM:-0600
TZOFFSETTO:-0500
TZNAME:CDT
END:DAYLIGHT
END:VTIMEZONE
END:VCALENDAR