BEGIN:VCALENDAR
VERSION:2.0
PRODID:-//wp-events-plugin.com//7.2.3.1//EN
TZID:America/Chicago
X-WR-TIMEZONE:America/Chicago
BEGIN:VEVENT
UID:2296@bnaijehudah.org
DTSTART;TZID=America/Chicago:20250202T120000
DTEND;TZID=America/Chicago:20250202T140000
DTSTAMP:20250110T022640Z
URL:https://bnaijehudah.org/events/field-trip-to-beth-shalom-sanctuary/
SUMMARY:Field Trip to Beth Shalom Sanctuary
DESCRIPTION:Enjoy lunch and a tour of Beth Shalom's new sanctuary\, led by 
 Rabbi David Glickman. We will meet at Beth Shalom\, 14200 Lamar Ave\, Over
 land Park.\n\nRegister here.
ATTACH;FMTTYPE=image/jpeg:https://bnaijehudah.org/wp-content/uploads/2024/
 11/field-trip-to-beth-shalom.png
CATEGORIES:Adult Education,Klein Collection
END:VEVENT
BEGIN:VTIMEZONE
TZID:America/Chicago
X-LIC-LOCATION:America/Chicago
BEGIN:STANDARD
DTSTART:20241103T010000
TZOFFSETFROM:-0500
TZOFFSETTO:-0600
TZNAME:CST
END:STANDARD
END:VTIMEZONE
END:VCALENDAR