BEGIN:VCALENDAR
VERSION:2.0
PRODID:-//wp-events-plugin.com//7.2.3.1//EN
TZID:America/Chicago
X-WR-TIMEZONE:America/Chicago
BEGIN:VEVENT
UID:2644@bnaijehudah.org
DTSTART;TZID=America/Chicago:20251002T103000
DTEND;TZID=America/Chicago:20251002T103000
DTSTAMP:20250824T152706Z
URL:https://bnaijehudah.org/events/free-child-care-yom-kippur-morning/
SUMMARY:Free Child Care (Yom Kippur Morning)
DESCRIPTION:We are pleased to offer child care free of charge for children 
 ages 6 months to pre-K during our Rosh HaShanah Morning services. All chil
 dren must be registered to attend.\nRegister here.
ATTACH;FMTTYPE=image/jpeg:https://bnaijehudah.org/wp-content/uploads/2024/
 06/use-this-3.png
CATEGORIES:High Holy Days,Holiday Programming,Yalla! and Youth
END:VEVENT
BEGIN:VTIMEZONE
TZID:America/Chicago
X-LIC-LOCATION:America/Chicago
BEGIN:DAYLIGHT
DTSTART:20250309T030000
TZOFFSETFROM:-0600
TZOFFSETTO:-0500
TZNAME:CDT
END:DAYLIGHT
END:VTIMEZONE
END:VCALENDAR