BEGIN:VCALENDAR
VERSION:2.0
PRODID:-//wp-events-plugin.com//7.2.3.1//EN
TZID:America/Chicago
X-WR-TIMEZONE:America/Chicago
BEGIN:VEVENT
UID:1384@bnaijehudah.org
DTSTART;TZID=America/Chicago:20240503T180000
DTEND;TZID=America/Chicago:20240503T200000
DTSTAMP:20240501T191114Z
URL:https://bnaijehudah.org/events/friday-night-renovation-celebration/
SUMMARY:Erev Shabbat Service and Friday Night Renovation Celebration
DESCRIPTION:Join us to celebrate the completion of our building renovation 
 campaign! We'll be holding a post-Shabbat service Oneg in gratitude to all
  those who supported our building renovation campaign\, as we celebrate it
 s conclusion.
ATTACH;FMTTYPE=image/jpeg:https://bnaijehudah.org/wp-content/uploads/2024/
 03/friday-night-revenovation-celebration.png
CATEGORIES:Shabbat
END:VEVENT
BEGIN:VTIMEZONE
TZID:America/Chicago
X-LIC-LOCATION:America/Chicago
BEGIN:DAYLIGHT
DTSTART:20240310T030000
TZOFFSETFROM:-0600
TZOFFSETTO:-0500
TZNAME:CDT
END:DAYLIGHT
END:VTIMEZONE
END:VCALENDAR