BEGIN:VCALENDAR
VERSION:2.0
PRODID:-//wp-events-plugin.com//7.2.3.1//EN
TZID:America/Chicago
X-WR-TIMEZONE:America/Chicago
BEGIN:VEVENT
UID:2310@bnaijehudah.org
DTSTART;TZID=America/Chicago:20250406T160000
DTEND;TZID=America/Chicago:20250406T180000
DTSTAMP:20250222T215308Z
URL:https://bnaijehudah.org/events/genes-and-jews/
SUMMARY:"What’s in Your Genes?" A Conversation about Jewish Genetic Scree
 ning
DESCRIPTION:Why are individuals of Jewish descent at higher risk for geneti
 c-related cancers and diseases? In partnership with Sharsheret and JScreen
 \, an organization affiliated with Emory University that does both Reprodu
 ctive Carrier Screening and Hereditary Cancer Testing\, folks interested i
 n cancer screening or couples in the family-planning stages will learn fr
 om a local Genetic Counselor\, hear from community members who have benefi
 tted from carrier and cancer screening and learn how to mitigate their ris
 ks at this community-wide public health screening event.  \n\nThis event
  is being held at The JKC\, 5801 W 115th St\, Overland Park\, KS.\n\nPrese
 nted by Congregation Beth Torah\, B’nai Jehudah\, Congregation Beth Shal
 om\, and Jewish Experiences\, a Collaboration of The J and Jewish Federati
 on\nFeaturing Local Genetic Counselor Ilana Chilton\, MS\, CGC\n\nJewish g
 enetic screening plays an important role in supporting the health and cont
 inuity of the Jewish community. Many hereditary conditions\, including tho
 se associated with increased cancer risks (like BRCA1 and BRCA2 mutations)
  and various genetic diseases impacting reproductive health\, occur at hig
 her rates within Ashkenazi Jewish populations.\n\nBECOME EMPOWERED WITH TH
 E KNOWLEDGE TO MAKE INFORMED MEDICAL AND REPRODUCTIVE DECISIONS\n\nGenetic
  specialists and local individuals will share information about testing re
 sources and how cancer and carrier screening can prevent or prepare famili
 es to manage certain genetic conditions\, improving health outcomes and en
 hancing family well-being.\n\nTHIS EVENT IS FREE AND WILL BE FOLLOWED BY A
  KOSHER RECEPTION\n\nPromotional partners: Rabbinical Association of Great
 er Kansas City\, HBHA\, Hadassah\, Priya and Jewish Family Services\nThis 
 program is made possible through generous funding from the Cortes Family F
 und of the Jewish Community Foundation.\n\nClick here to register or find 
 out more information.
ATTACH;FMTTYPE=image/jpeg:https://bnaijehudah.org/wp-content/uploads/2025/
 02/25_JEX_Genes_800x600.jpg
CATEGORIES:Community Connections
LOCATION:JKC\, 5801 W 115th St\, Overland Park\, Kansas\, United States
X-APPLE-STRUCTURED-LOCATION;VALUE=URI;X-ADDRESS=5801 W 115th St\, Overland 
 Park\, Kansas\, United States;X-APPLE-RADIUS=100;X-TITLE=JKC:geo:0,0
END:VEVENT
BEGIN:VTIMEZONE
TZID:America/Chicago
X-LIC-LOCATION:America/Chicago
BEGIN:DAYLIGHT
DTSTART:20250309T030000
TZOFFSETFROM:-0600
TZOFFSETTO:-0500
TZNAME:CDT
END:DAYLIGHT
END:VTIMEZONE
END:VCALENDAR