BEGIN:VCALENDAR
VERSION:2.0
PRODID:-//wp-events-plugin.com//7.2.3.1//EN
TZID:America/Chicago
X-WR-TIMEZONE:America/Chicago
BEGIN:VEVENT
UID:1309@bnaijehudah.org
DTSTART;TZID=America/Chicago:20240418T190000
DTEND;TZID=America/Chicago:20240418T203000
DTSTAMP:20240224T005225Z
URL:https://bnaijehudah.org/events/getting-the-words-right-crafting-a-pers
 uasive-op-ed/
SUMMARY:Getting the Words Right: Crafting a Persuasive Op-Ed
DESCRIPTION:Have something to say and want to make sure it hits its mark? D
 r. Diana Carlin leads a session on how to write an opinion/editorial essay
  that delivers your message effectively.  Dr. Carlin is a professor emeri
 ta at Saint Louis University and is a specialist in the field of political
  communication.\n\nMeeting in the TTCBJ Library.\n\nRegister here.
ATTACH;FMTTYPE=image/jpeg:https://bnaijehudah.org/wp-content/uploads/2024/
 02/words-right.png
CATEGORIES:Adult Education
END:VEVENT
BEGIN:VTIMEZONE
TZID:America/Chicago
X-LIC-LOCATION:America/Chicago
BEGIN:DAYLIGHT
DTSTART:20240310T030000
TZOFFSETFROM:-0600
TZOFFSETTO:-0500
TZNAME:CDT
END:DAYLIGHT
END:VTIMEZONE
END:VCALENDAR