BEGIN:VCALENDAR
VERSION:2.0
PRODID:-//wp-events-plugin.com//7.2.3.1//EN
TZID:America/Chicago
X-WR-TIMEZONE:America/Chicago
BEGIN:VEVENT
UID:2353@bnaijehudah.org
DTSTART;TZID=America/Chicago:20250506T180000
DTEND;TZID=America/Chicago:20250506T193000
DTSTAMP:20250412T025502Z
URL:https://bnaijehudah.org/events/good-faith-network-meeting-2/
SUMMARY:Good Faith Network: Nehemiah Action
DESCRIPTION:Every year\, member congregations of the Good Faith Network joi
 n as a collective voice to bring God's justice to our Johnson County commu
 nity. B'nai Jehudah is proud to be a member of the Good Faith Network\, an
 d we invite you to join in the movement to advocate for just and fair solu
 tions to mental health crises\, homelessness\, the lack of affordable hous
 ing and eldercare!\n\nLast year\, 69 B'nai Jehudah members attended the Ne
 hemiah Action. Help us beat last year's numbers and join us for this impor
 tant local social action event to better the lives of people in Johnson Co
 unty.\n\nFor more information\, click here.\n\nResurrection UMC Leawood (1
 3720 Roe Ave.)
ATTACH;FMTTYPE=image/jpeg:https://bnaijehudah.org/wp-content/uploads/2024/
 11/nehemia-action.png
CATEGORIES:Social Action
END:VEVENT
BEGIN:VTIMEZONE
TZID:America/Chicago
X-LIC-LOCATION:America/Chicago
BEGIN:DAYLIGHT
DTSTART:20250309T030000
TZOFFSETFROM:-0600
TZOFFSETTO:-0500
TZNAME:CDT
END:DAYLIGHT
END:VTIMEZONE
END:VCALENDAR