BEGIN:VCALENDAR
VERSION:2.0
PRODID:-//wp-events-plugin.com//7.2.3.1//EN
TZID:America/Chicago
X-WR-TIMEZONE:America/Chicago
BEGIN:VEVENT
UID:2424@bnaijehudah.org
DTSTART;TZID=America/Chicago:20250216T103000
DTEND;TZID=America/Chicago:20250216T113000
DTSTAMP:20250207T152240Z
URL:https://bnaijehudah.org/events/good-faith-network-meeting-4/
SUMMARY:Good Faith Network Meeting
DESCRIPTION:B’nai Jehudah is a member of the Good Faith Network\, a Johns
 on County interfaith group composed of nearly 30 congregations from three 
 faith traditions. The network's mission is to pursue justice in the local 
 community. This year\, the Good Faith Network is focusing its efforts on e
 ldercare\, mental health\, housing and homelessness. On May 6\, over 1600 
 justice-seeking people of faith will gather to seek commitments from our l
 ocal officials on real change in Johnson County.\n\nWant to learn how to g
 et involved? Join Rabbi Brazner and B’nai Jehudah’s Social Action Comm
 ittee members at the upcoming network meeting at Congregation Beth Shalom 
 (14200 Lamar Ave) on February 16\, 10:30am. Contact Dan and Jeannie Adler 
 (adlerdan@gmail.com) with any questions.
ATTACH;FMTTYPE=image/jpeg:https://bnaijehudah.org/wp-content/uploads/2025/
 01/good-faith-network-logo-800-x-600-px.png
CATEGORIES:Social Action
END:VEVENT
BEGIN:VTIMEZONE
TZID:America/Chicago
X-LIC-LOCATION:America/Chicago
BEGIN:STANDARD
DTSTART:20241103T010000
TZOFFSETFROM:-0500
TZOFFSETTO:-0600
TZNAME:CST
END:STANDARD
END:VTIMEZONE
END:VCALENDAR