BEGIN:VCALENDAR
VERSION:2.0
PRODID:-//wp-events-plugin.com//7.2.3.1//EN
TZID:America/Chicago
X-WR-TIMEZONE:America/Chicago
BEGIN:VEVENT
UID:318@bnaijehudah.org
DTSTART;TZID=America/Chicago:20240510T180000
DTEND;TZID=America/Chicago:20240510T200000
DTSTAMP:20240422T021840Z
URL:https://bnaijehudah.org/events/graduation-camp-shabbat-dinner/
SUMMARY:Graduation Camp Erev Shabbat Service and Dinner
DESCRIPTION:Join us on May 10 for an unforgettable Graduation Camp Shabbat 
 Dinner at B’nai Jehudah! Wear your camp gear and join us for a Camp Styl
 e Shabbat and Dinner! We will celebrate May birthdays and anniversaries an
 d our graduating high school seniors!\n\nSing along at our casual Jewish s
 ummer camp style Shabbat service and dinner\, complete with a cozy bonfir
 e. Proudly showcase your academic achievements with school attire. RSVP no
 w for a free evening of warmth\, celebration and prayer.\n\nRegister here.
ATTACH;FMTTYPE=image/jpeg:https://bnaijehudah.org/wp-content/uploads/2023/
 12/shabbat-simcha.png
CATEGORIES:Community Connections
END:VEVENT
BEGIN:VTIMEZONE
TZID:America/Chicago
X-LIC-LOCATION:America/Chicago
BEGIN:DAYLIGHT
DTSTART:20240310T030000
TZOFFSETFROM:-0600
TZOFFSETTO:-0500
TZNAME:CDT
END:DAYLIGHT
END:VTIMEZONE
END:VCALENDAR