BEGIN:VCALENDAR
VERSION:2.0
PRODID:-//wp-events-plugin.com//7.2.3.1//EN
TZID:America/Chicago
X-WR-TIMEZONE:America/Chicago
BEGIN:VEVENT
UID:1941@bnaijehudah.org
DTSTART;TZID=America/Chicago:20241115T180000
DTEND;TZID=America/Chicago:20241115T180000
DTSTAMP:20241024T184103Z
URL:https://bnaijehudah.org/events/grwm-get-ready-with-me-for-shabbat/
SUMMARY:#GRWM (Get Ready with Me) for Shabbat with Rabbis Kramer\, Brazner 
 and Rothstein
DESCRIPTION:Join us for a Special Rabbi’s Table Shabbat Dinner!\n\nBe par
 t of a meaningful evening with our B’nai Jehudah rabbis as we dive into 
 the beautiful rituals\, symbols and traditions of Shabbat. This gathering 
 promises a warm and enriching experience for everyone in our community.\n\
 nWhat to expect:\n\n 	Participate in a hands-on challah-making session to 
 donate to Jewish Family Services (JFS).\n 	Enjoy captivating Shabbat stori
 es.\n 	Learn about unique and meaningful Shabbat rituals.\n 	Savor a delic
 ious catered meal.\n\nDetails:\n\n 	Cost: $20/person (Financial assistance
  is available—please contact the office).\n 	Space is limited\, so regis
 ter early!\n 	Feel free to bring wine to drink and share at your table.\n\
 nWhile this event replaces our traditional Erev Shabbat Service\, it will 
 still include all the blessings and the recitation of the Mourner’s Kadd
 ish. Join us for a night of connection\, learning\, and tradition. We look
  forward to celebrating with you!\n\nRegister here.\n\n&nbsp\;\n\nSave the
  dates:\n\nThursday\, December 12\, 12:00pm #GRWM for Hanukkah \n\nThursd
 ay\, February 13\, 12:00pm #GRWM for Tu BiShvat \n\nSaturday\, March 1\, 
 7:00pm #GRWM for Purim \n\nTuesday\, April 8\, 7:00pm #GRWM for Passover
  \n\nWednesday\, April 23\, 12:00pm #GRWM for The Yom’s
ATTACH;FMTTYPE=image/jpeg:https://bnaijehudah.org/wp-content/uploads/2024/
 07/Shabbat-and-Rabbis-Table.png
CATEGORIES:Adult Education,Community Connections,Rabbi's Table,Shabbat
END:VEVENT
BEGIN:VTIMEZONE
TZID:America/Chicago
X-LIC-LOCATION:America/Chicago
BEGIN:STANDARD
DTSTART:20241103T010000
TZOFFSETFROM:-0500
TZOFFSETTO:-0600
TZNAME:CST
END:STANDARD
END:VTIMEZONE
END:VCALENDAR