BEGIN:VCALENDAR
VERSION:2.0
PRODID:-//wp-events-plugin.com//7.2.3.1//EN
TZID:America/Chicago
X-WR-TIMEZONE:America/Chicago
BEGIN:VEVENT
UID:2013@bnaijehudah.org
DTSTART;TZID=America/Chicago:20250213T190000
DTEND;TZID=America/Chicago:20250213T203000
DTSTAMP:20250115T191026Z
URL:https://bnaijehudah.org/events/grwm-get-ready-with-me-for-tu-bishvat/
SUMMARY:#GRWM (Get Ready with Me) for Tu BiShvat
DESCRIPTION:This is a creative way to “get ready” for our upcoming holi
 days! Join our rabbis for our innovative #GetReadyWithMe Series\, where yo
 u'll dive into each of our major holidays in new\, fun and engaging ways. 
 Not your typical "Holiday 101" experience\, these gatherings will allow yo
 u to explore\, learn\, and connect with the Jewish year as we celebrate\, 
 all while having fun with your B'nai Jehudah community! \n\n#GRWM for Tu 
 BiShvat: Olive Oil Tasting\n\nSample olive oils from around the world whil
 e learning about their health benefits and  how to cook with them.\n\n$10
  per person\n\nRegister here.\n\nSave the dates:\n\nSaturday\, March 1\, 2
 :00pm #GRWM for Purim \n\nTuesday\, April 8\, 7:00pm #GRWM for Passover 
 \n\nWednesday\, April 23\, 12:00pm #GRWM for "The Yom’s"
ATTACH;FMTTYPE=image/jpeg:https://bnaijehudah.org/wp-content/uploads/2024/
 08/APPROVED-Tu-BiShvat-1.png
CATEGORIES:Adult Education,Community Connections,Holiday Programming
END:VEVENT
BEGIN:VTIMEZONE
TZID:America/Chicago
X-LIC-LOCATION:America/Chicago
BEGIN:STANDARD
DTSTART:20241103T010000
TZOFFSETFROM:-0500
TZOFFSETTO:-0600
TZNAME:CST
END:STANDARD
END:VTIMEZONE
END:VCALENDAR