BEGIN:VCALENDAR
VERSION:2.0
PRODID:-//wp-events-plugin.com//7.2.3.1//EN
TZID:America/Chicago
X-WR-TIMEZONE:America/Chicago
BEGIN:VEVENT
UID:2423@bnaijehudah.org
DTSTART;TZID=America/Chicago:20250302T090000
DTEND;TZID=America/Chicago:20250302T120000
DTSTAMP:20250130T213501Z
URL:https://bnaijehudah.org/events/hanoch-piven-kids-community-workshop/
SUMMARY:Hanoch Piven Kids Community Workshop
DESCRIPTION:Community-wide religious school program at the JCC with Israeli
  artist Hanoch Piven!\n\nRead more here.
ATTACH;FMTTYPE=image/jpeg:https://bnaijehudah.org/wp-content/uploads/2025/
 01/web-image-hanoch-piven.png
CATEGORIES:Artist In Residence,TTCBJ,Yalla! and Youth
END:VEVENT
BEGIN:VTIMEZONE
TZID:America/Chicago
X-LIC-LOCATION:America/Chicago
BEGIN:STANDARD
DTSTART:20241103T010000
TZOFFSETFROM:-0500
TZOFFSETTO:-0600
TZNAME:CST
END:STANDARD
END:VTIMEZONE
END:VCALENDAR