BEGIN:VCALENDAR
VERSION:2.0
PRODID:-//wp-events-plugin.com//7.2.3.1//EN
TZID:America/Chicago
X-WR-TIMEZONE:America/Chicago
BEGIN:VEVENT
UID:2633@bnaijehudah.org
DTSTART;TZID=America/Chicago:20251106T180000
DTEND;TZID=America/Chicago:20251106T193000
DTSTAMP:20250820T144139Z
URL:https://bnaijehudah.org/events/hartman-series-jewish-values-and-the-is
 raeli-palestinian-conflict-4/
SUMMARY:Hartman Series: Jewish Values and the Israeli-Palestinian Conflict
DESCRIPTION:Join our rabbis for this important 6-part series on the Israeli
 -Palestinian Conflict. Using curriculum from the Shalom Hartman Institute\
 , we will explore the conflict through the lens of Jewish values\, unpacki
 ng our own perspectives while fostering respect for our differences.\nCour
 se fee: $36. A minimum of 10 participants is needed to run the course.\nTh
 is class explores one of the most divisive issues affecting the Jewish peo
 ple today: the Israeli-Palestinian Conflict. Through the study of Jewish n
 arratives about Israel and the unpacking of the complex meanings of peace 
 in Jewish tradition\, participants are invited to explore the ideas and va
 lues that animate different attitudes toward the conflict and how these va
 lues shape their own political understandings. Although a shared political
  platform may not be attainable\, this course aims to foster a shared resp
 ect for our differences. Together\, we will engage in a new values-based d
 iscourse about Israel\, including topics such as: Living with Difference\,
  the Israel We Imagine\, Jewish Narratives of Peace\, Attitudes Towards th
 e Land\, Justice\, Self-Preservation\, Compromise and the Idea of Jewish E
 xceptionalism.\n$36 per person.\nRegister here.
ATTACH;FMTTYPE=image/jpeg:https://bnaijehudah.org/wp-content/uploads/2025/
 07/approved-10.png
CATEGORIES:Adult Education
END:VEVENT
BEGIN:VTIMEZONE
TZID:America/Chicago
X-LIC-LOCATION:America/Chicago
BEGIN:STANDARD
DTSTART:20251102T010000
TZOFFSETFROM:-0500
TZOFFSETTO:-0600
TZNAME:CST
END:STANDARD
END:VTIMEZONE
END:VCALENDAR