BEGIN:VCALENDAR
VERSION:2.0
PRODID:-//wp-events-plugin.com//7.2.3.1//EN
TZID:America/Chicago
X-WR-TIMEZONE:America/Chicago
BEGIN:VEVENT
UID:1962@bnaijehudah.org
DTSTART;TZID=America/Chicago:20240914T190000
DTEND;TZID=America/Chicago:20240914T190000
DTSTAMP:20240813T151722Z
URL:https://bnaijehudah.org/events/havdalah-camp-song-session-and-dinner-w
 ith-dan-nichols/
SUMMARY:Havdalah\, Camp Song Session and Dinner with Dan Nichols
DESCRIPTION:Party and sing along with Dan! The entire family is invited to 
 enjoy Havdalah\, dinner\, music and dancing in the Social Hall. Free dinne
 r sponsored by the Klein Collection.\nRegister here.
CATEGORIES:Artist In Residence,Community Connections,Yalla! and Youth
END:VEVENT
BEGIN:VTIMEZONE
TZID:America/Chicago
X-LIC-LOCATION:America/Chicago
BEGIN:DAYLIGHT
DTSTART:20240310T030000
TZOFFSETFROM:-0600
TZOFFSETTO:-0500
TZNAME:CDT
END:DAYLIGHT
END:VTIMEZONE
END:VCALENDAR