BEGIN:VCALENDAR
VERSION:2.0
PRODID:-//wp-events-plugin.com//7.2.3.1//EN
TZID:America/Chicago
X-WR-TIMEZONE:America/Chicago
BEGIN:VEVENT
UID:1800@bnaijehudah.org
DTSTART;TZID=America/Chicago;VALUE=DATE:20241009
DTEND;TZID=America/Chicago;VALUE=DATE:20241010
DTSTAMP:20240917T131143Z
URL:https://bnaijehudah.org/events/high-holy-day-puppet-show-rehearsals-2-
 2024-10-09/
SUMMARY:High Holy Day Puppet Show Rehearsals
DESCRIPTION:Join us as a puppeteer or voice actor. It's a great family acti
 vity and a fun way to earn school community service hours. Open to adults 
 and students 13 years and older.\nRosh HaShanah Rehearsals: September 15\,
  22 and 29\nYom Kippur Rehearsals: September 15\, 22 and October 9\nContac
 t Abby Magariel\, curator@bnaijehudah.org\, to learn more or sign up!
CATEGORIES:Holiday Programming,Yalla! and Youth,Young Families
END:VEVENT
BEGIN:VTIMEZONE
TZID:America/Chicago
X-LIC-LOCATION:America/Chicago
BEGIN:DAYLIGHT
DTSTART:20240310T030000
TZOFFSETFROM:-0600
TZOFFSETTO:-0500
TZNAME:CDT
END:DAYLIGHT
END:VTIMEZONE
END:VCALENDAR